BEGIN:VCALENDAR
VERSION:2.0
PRODID:-//wp-events-plugin.com//7.2.3.1//EN
BEGIN:VEVENT
UID:1622@unitymerrittisland.org
DTSTART:20260322T160000Z
DTEND:20260322T170000Z
DTSTAMP:20260319T193803Z
URL:https://www.unitymerrittisland.org/events/sunday-service-2026-03-22/
SUMMARY:Sunday Service
DESCRIPTION:Sunday Service with Charlotte Cruce\n\nMusicians Julie and Mike
 \n\n&nbsp\;
CATEGORIES:Unity Merritt Island
END:VEVENT
END:VCALENDAR