BEGIN:VCALENDAR
VERSION:2.0
PRODID:-//wp-events-plugin.com//7.2.3.1//EN
BEGIN:VEVENT
UID:2963@unitymerrittisland.org
DTSTART:20250730T150000Z
DTEND:20250730T170000Z
DTSTAMP:20250526T184556Z
URL:https://www.unitymerrittisland.org/events/book-discussion-the-gospel-o
 f-mary-magdalene-2025-07-30/
SUMMARY:Book Discussion: The Gospel of Mary Magdalene
DESCRIPTION:[embed]https://www.amazon.com/Gospel-Mary-Magdalene-Jean-Yves-L
 eloup/dp/0892819111/ref=sr_1_1?crid=38SF3HEHOR2QE&amp\;dib=eyJ2IjoiMSJ9.zq
 Xs_JJbwKMOXp6nI1vA7ulYFdCJSJr6sC89765yua9uUWiNQbiOgYxBekVTlgfekSu51qPeuR8Y
 Pl8T7rtYFZLAD2JNEgo9ZX_AM5RVF-ABqyyeWB3jy88zXxcx2J2GC_WAW_aABKtx-tGKD2dwj5
 UKCrdmNeV0MVKJA-C5kyMiDE_HGpBm41BTf3BHprAvvCJIKpGwAUE0AVk7rJL6Uum4q_B2dJAT
 NAVQ7m6PlrE.lj9gAew4-8laCzjrJitXnNh5rqWiRGMYGdNB9J_TkB8&amp\;dib_tag=se&am
 p\;keywords=the+gospel+of+mary+magdalene+by+jean-yves+leloup&amp\;qid=1748
 284944&amp\;sprefix=The+Gospel+of+Mary+Magdalene%2Caps%2C105&amp\;sr=8-1[/
 embed]\n\nThe Gospel of Mary Magdalene\nby Jean Yves LeLoup\n\nFacilitated
  by Vera Holly\n\nCould it be that the image of Mary Magdalene has been so
  distorted that a teacher who was known as apostle to the apostles became 
 known as a prostitute and the writing attributed to her was lost for over1
 800 years?&nbsp\; The Gospel of Mary Magdalene was rediscovered in 1896 an
 d translated into English in the 1950’s.&nbsp\; The gospel reveals teach
 ings that were stripped out of the New Testament and called heresy.&nbsp\;
 &nbsp\; However\, these teachings that Mary received from Jesus remain rel
 evant for spiritual understanding today.&nbsp\;\n\n&nbsp\;
END:VEVENT
END:VCALENDAR